BEGIN:VCALENDAR
VERSION:2.0
PRODID:-//Age Friendly Saco - ECPv6.15.20//NONSGML v1.0//EN
CALSCALE:GREGORIAN
METHOD:PUBLISH
X-ORIGINAL-URL:https://agefriendlysaco.org
X-WR-CALDESC:Events for Age Friendly Saco
REFRESH-INTERVAL;VALUE=DURATION:PT1H
X-Robots-Tag:noindex
X-PUBLISHED-TTL:PT1H
BEGIN:VTIMEZONE
TZID:UTC
BEGIN:STANDARD
TZOFFSETFROM:+0000
TZOFFSETTO:+0000
TZNAME:UTC
DTSTART:20250101T000000
END:STANDARD
END:VTIMEZONE
BEGIN:VEVENT
DTSTART;TZID=UTC:20260424T123000
DTEND;TZID=UTC:20260424T140000
DTSTAMP:20260420T122017
CREATED:20260324T194345Z
LAST-MODIFIED:20260401T105427Z
UID:3827-1777033800-1777039200@agefriendlysaco.org
SUMMARY:Death Cafe with Leona Oceania
DESCRIPTION:Registration required:  207-283-3861 \nDyer Library – Deering Room \nA Death Cafe is a group-guided open conversation about death with no agenda\, objectives\, or themes. It is a discussion group rather than a grief support or counselling session. Our objective is to increase the awareness of death with a view to helping people make the most of their (finite) lives. Join facilitator Leona Oceania from Die Well Death Education as she leads and keeps the conversation going (rarely necessary)\, answer questions\, and correct misinformation. \n 
URL:https://agefriendlysaco.org/event/death-cafe-with-leona-oceania/
LOCATION:Dyer Library\, 371 Main Street\, Saco\, Maine\, 04072
ATTACH;FMTTYPE=image/jpeg:https://agefriendlysaco.org/wp-content/uploads/2026/03/Wellness-Fair-11-8-2025.jpg
ORGANIZER;CN="Dyer Library":MAILTO:non
END:VEVENT
END:VCALENDAR