BEGIN:VCALENDAR
VERSION:2.0
PRODID:-//Age Friendly Saco - ECPv6.15.20//NONSGML v1.0//EN
CALSCALE:GREGORIAN
METHOD:PUBLISH
X-WR-CALNAME:Age Friendly Saco
X-ORIGINAL-URL:https://agefriendlysaco.org
X-WR-CALDESC:Events for Age Friendly Saco
REFRESH-INTERVAL;VALUE=DURATION:PT1H
X-Robots-Tag:noindex
X-PUBLISHED-TTL:PT1H
BEGIN:VTIMEZONE
TZID:UTC
BEGIN:STANDARD
TZOFFSETFROM:+0000
TZOFFSETTO:+0000
TZNAME:UTC
DTSTART:20250101T000000
END:STANDARD
END:VTIMEZONE
BEGIN:VEVENT
DTSTART;TZID=UTC:20260423T100000
DTEND;TZID=UTC:20260423T230000
DTSTAMP:20260420T122819
CREATED:20260416T111155Z
LAST-MODIFIED:20260416T111155Z
UID:3853-1776938400-1776985200@agefriendlysaco.org
SUMMARY:Coffee & Conversation - April 23\, 2026
DESCRIPTION:Maine Strong Balance Center will be discussing Balance\, Fall Prevention\, Physical Therapy and Occupational Therapy.  Join us at Dyer Library for this important discussion.
URL:https://agefriendlysaco.org/event/coffee-conversation-april-23-2026/
LOCATION:Dyer Library\, 371 Main Street\, Saco\, Maine\, 04072
END:VEVENT
END:VCALENDAR