BEGIN:VCALENDAR
VERSION:2.0
PRODID:-//Age Friendly Saco - ECPv6.15.20//NONSGML v1.0//EN
CALSCALE:GREGORIAN
METHOD:PUBLISH
X-ORIGINAL-URL:https://agefriendlysaco.org
X-WR-CALDESC:Events for Age Friendly Saco
REFRESH-INTERVAL;VALUE=DURATION:PT1H
X-Robots-Tag:noindex
X-PUBLISHED-TTL:PT1H
BEGIN:VTIMEZONE
TZID:UTC
BEGIN:STANDARD
TZOFFSETFROM:+0000
TZOFFSETTO:+0000
TZNAME:UTC
DTSTART:20250101T000000
END:STANDARD
END:VTIMEZONE
BEGIN:VEVENT
DTSTART;TZID=UTC:20260218T130000
DTEND;TZID=UTC:20260218T143000
DTSTAMP:20260421T082934
CREATED:20260121T190051Z
LAST-MODIFIED:20260210T123100Z
UID:3767-1771419600-1771425000@agefriendlysaco.org
SUMMARY:From Set Up to Skills:  Introduction to Echo Dot & Alexa
DESCRIPTION:Age Friendly Saco and Dyer Library are teaming up to provide a learning session for older adults: From Setup to Skills: Introduction to Echo Dot & Alexa\, on February 18\, 2026 from 1:00 – 2:30 pm at Dyer Library.  An Echo Dot is a smart speaker that uses Amazon’s voice assistant\, Alexa\, to perform tasks like playing music\, setting alarms\, answering questions\, controlling smart home devices\, and providing news or weather updates\, all via voice commands. Is an Echo Dot right for you?  Attend this free session to find out and leave with a free Echo Dot! \nThere are 20 spots available.  Registration is required.  Please contact Age Friendly Saco to register.  207-710-5029
URL:https://agefriendlysaco.org/event/from-set-up-to-skills-introduction-to-echo-dot-alexa/
LOCATION:Dyer Library\, 371 Main Street\, Saco\, Maine\, 04072
ATTACH;FMTTYPE=image/jpeg:https://agefriendlysaco.org/wp-content/uploads/2026/01/Echo-Dot2.jpg
END:VEVENT
END:VCALENDAR